BEGIN:VCALENDAR
VERSION:2.0
PRODID:-//Library Market//iCal Export//EN
BEGIN:VEVENT
SUMMARY:Library Foundation &amp; Friends Donut &amp; Coffee Social
UID:47640
DTSTAMP:20260421T024200Z
DTSTART:20260423T150000Z
DTEND:20260423T180000Z
LOCATION:United States
ROOM: Lobby
DESCRIPTION:Teton County Library Foundation &amp; Friends is celebrating T
 ake Action for Libraries Day! Join TCLFF for free coffee and donuts in the
  lobby. We’re hosting a Library Resources Fair, a Book Nook Sale, and a 
 drawing for a chance to win one of two incredible astro-photography prints
  by Board Member Michael Adler. Browse books, games, puzzles and more at 
 the Book Nook! Purchases of three or more items earn a free ticket for the
  drawing, or you may choose to purchase tickets for $5 each.At the Library
  Resources Fair, you can sample and enjoy services and collection items su
 ch as BrainHQ, Playaways, Wonderbooks, Language Learning, CreativeBug, and
  more! You can even schedule an Early Literacy Room tour for your little r
 eader.
URL:https://www.tclib.org/event/library-foundation-friends-donut-coffee-so
 cial-47640
END:VEVENT
END:VCALENDAR
