BEGIN:VCALENDAR
VERSION:2.0
PRODID:-//Library Market//iCal Export//EN
BEGIN:VEVENT
SUMMARY:Mother&#039;s Day Take Home Craft
UID:47625
DTSTAMP:20260421T040300Z
DTSTART:20260509T160000Z
DTEND:20260509T210000Z
LOCATION:United States
ROOM: Lobby
DESCRIPTION:Celebrate Motherâ€™s Day with a cute paint-your-own figure kit
 !Â¡Celebra el DÃ­a de la Madre con un bonito kit de figuras para pintar tÃ
 º mismo!Â 
URL:https://www.tclib.org/event/mothers-day-take-home-craft-47625
END:VEVENT
END:VCALENDAR
