BEGIN:VCALENDAR
VERSION:2.0
PRODID:-//Library Market//iCal Export//EN
BEGIN:VEVENT
SUMMARY:ALTA Indian Paintbrush Book Club
UID:47581
DTSTAMP:20260423T082300Z
DTSTART:20260725T160000Z
DTEND:20260725T170000Z
LOCATION:United States
ROOM: Community Room (This is in the Alta Branch).
DESCRIPTION:This book club is for children, 4th through 6th grade. We will
  read one of the 2026-2027 Wyoming Indian Paintbrush book award nomination
 s and share our literary thoughts over culinary delights! All participants
  will receive their own copy of the book prior to the book club meeting.
URL:https://www.tclib.org/event/alta-indian-paintbrush-book-club-47581
END:VEVENT
END:VCALENDAR
